BEGIN:VCALENDAR
VERSION:2.0
PRODID:-//Blackmud Creek - ECPv6.15.20//NONSGML v1.0//EN
CALSCALE:GREGORIAN
METHOD:PUBLISH
X-ORIGINAL-URL:https://blackmudcreek.com
X-WR-CALDESC:Events for Blackmud Creek
REFRESH-INTERVAL;VALUE=DURATION:PT1H
X-Robots-Tag:noindex
X-PUBLISHED-TTL:PT1H
BEGIN:VTIMEZONE
TZID:Europe/London
BEGIN:DAYLIGHT
TZOFFSETFROM:+0000
TZOFFSETTO:+0100
TZNAME:BST
DTSTART:20220327T010000
END:DAYLIGHT
BEGIN:STANDARD
TZOFFSETFROM:+0100
TZOFFSETTO:+0000
TZNAME:GMT
DTSTART:20221030T010000
END:STANDARD
BEGIN:DAYLIGHT
TZOFFSETFROM:+0000
TZOFFSETTO:+0100
TZNAME:BST
DTSTART:20230326T010000
END:DAYLIGHT
BEGIN:STANDARD
TZOFFSETFROM:+0100
TZOFFSETTO:+0000
TZNAME:GMT
DTSTART:20231029T010000
END:STANDARD
BEGIN:DAYLIGHT
TZOFFSETFROM:+0000
TZOFFSETTO:+0100
TZNAME:BST
DTSTART:20240331T010000
END:DAYLIGHT
BEGIN:STANDARD
TZOFFSETFROM:+0100
TZOFFSETTO:+0000
TZNAME:GMT
DTSTART:20241027T010000
END:STANDARD
END:VTIMEZONE
BEGIN:VEVENT
DTSTART;TZID=Europe/London:20230920T190000
DTEND;TZID=Europe/London:20230920T210000
DTSTAMP:20260421T075140
CREATED:20180110T130859Z
LAST-MODIFIED:20240926T190041Z
UID:240-1695236400-1695243600@blackmudcreek.com
SUMMARY:September Meeting
DESCRIPTION:In addition to our BCCL Annual General Meeting\, we hold monthly meetings every 3rd Monday of the month (except July\, August\, and December) at 7:00 p.m.
URL:https://blackmudcreek.com/event/sept-2023-meeting/
LOCATION:Blackmud Creek Park
CATEGORIES:All Events
ATTACH;FMTTYPE=image/jpeg:https://blackmudcreek.com/bccl/wp-content/uploads/2017/12/blog-meeting.jpg
END:VEVENT
END:VCALENDAR