BEGIN:VCALENDAR
VERSION:2.0
PRODID:-//Blackmud Creek - ECPv6.15.20//NONSGML v1.0//EN
CALSCALE:GREGORIAN
METHOD:PUBLISH
X-ORIGINAL-URL:https://blackmudcreek.com
X-WR-CALDESC:Events for Blackmud Creek
REFRESH-INTERVAL;VALUE=DURATION:PT1H
X-Robots-Tag:noindex
X-PUBLISHED-TTL:PT1H
BEGIN:VTIMEZONE
TZID:Europe/London
BEGIN:DAYLIGHT
TZOFFSETFROM:+0000
TZOFFSETTO:+0100
TZNAME:BST
DTSTART:20220327T010000
END:DAYLIGHT
BEGIN:STANDARD
TZOFFSETFROM:+0100
TZOFFSETTO:+0000
TZNAME:GMT
DTSTART:20221030T010000
END:STANDARD
BEGIN:DAYLIGHT
TZOFFSETFROM:+0000
TZOFFSETTO:+0100
TZNAME:BST
DTSTART:20230326T010000
END:DAYLIGHT
BEGIN:STANDARD
TZOFFSETFROM:+0100
TZOFFSETTO:+0000
TZNAME:GMT
DTSTART:20231029T010000
END:STANDARD
BEGIN:DAYLIGHT
TZOFFSETFROM:+0000
TZOFFSETTO:+0100
TZNAME:BST
DTSTART:20240331T010000
END:DAYLIGHT
BEGIN:STANDARD
TZOFFSETFROM:+0100
TZOFFSETTO:+0000
TZNAME:GMT
DTSTART:20241027T010000
END:STANDARD
END:VTIMEZONE
BEGIN:VEVENT
DTSTART;TZID=Europe/London:20230909T170000
DTEND;TZID=Europe/London:20230909T200000
DTSTAMP:20260421T075224
CREATED:20230901T125051Z
LAST-MODIFIED:20230902T040028Z
UID:232-1694278800-1694289600@blackmudcreek.com
SUMMARY:Community League Day
DESCRIPTION:Join us on September 9th\, 2023 for Community League Day 2023! \nThe event will be held in Blackmud Creek Park\, from 5 – 8 pm\, and will feature games\, food trucks and fun for the whole family! \nPlan ahead and stay for the outdoor movie\, which starts at 8:15 pm!
URL:https://blackmudcreek.com/event/community-league-day/
LOCATION:Blackmud Creek Park
CATEGORIES:All Events
ATTACH;FMTTYPE=image/jpeg:https://blackmudcreek.com/bccl/wp-content/uploads/2018/01/blog-league-day.jpg
END:VEVENT
BEGIN:VEVENT
DTSTART;TZID=Europe/London:20230909T200000
DTEND;TZID=Europe/London:20230909T230000
DTSTAMP:20260421T075225
CREATED:20180110T130948Z
LAST-MODIFIED:20230902T040250Z
UID:242-1694289600-1694300400@blackmudcreek.com
SUMMARY:Outdoor Movie Night
DESCRIPTION:Puss in Boots starts at about 8:15pm on September 9th\, 2023 in Blackmud Creek Park!
URL:https://blackmudcreek.com/event/outdoor-movie-night/
LOCATION:Blackmud Creek Park
CATEGORIES:All Events
ATTACH;FMTTYPE=image/jpeg:https://blackmudcreek.com/bccl/wp-content/uploads/2017/12/blog-outdoor-movie.jpg
END:VEVENT
END:VCALENDAR