BEGIN:VCALENDAR
VERSION:2.0
PRODID:-//Blackmud Creek - ECPv6.15.20//NONSGML v1.0//EN
CALSCALE:GREGORIAN
METHOD:PUBLISH
X-ORIGINAL-URL:https://blackmudcreek.com
X-WR-CALDESC:Events for Blackmud Creek
REFRESH-INTERVAL;VALUE=DURATION:PT1H
X-Robots-Tag:noindex
X-PUBLISHED-TTL:PT1H
BEGIN:VTIMEZONE
TZID:UTC
BEGIN:STANDARD
TZOFFSETFROM:+0000
TZOFFSETTO:+0000
TZNAME:UTC
DTSTART:20240101T000000
END:STANDARD
END:VTIMEZONE
BEGIN:VEVENT
DTSTART;TZID=UTC:20251221T200000
DTEND;TZID=UTC:20251221T203000
DTSTAMP:20260419T160400
CREATED:20251016T164907Z
LAST-MODIFIED:20251016T164954Z
UID:2820-1766347200-1766349000@blackmudcreek.com
SUMMARY:Fireworks
DESCRIPTION:Let’s celebrate Solstice with some fireworks at Blackmud Creek Park. Bring your hot chocolate\, bundle up\, and enjoy the show!
URL:https://blackmudcreek.com/event/fireworks/
CATEGORIES:All Events
END:VEVENT
END:VCALENDAR